BEGIN:VCALENDAR
VERSION:2.0
PRODID:-//Cork Thyme - ECPv6.15.20//NONSGML v1.0//EN
CALSCALE:GREGORIAN
METHOD:PUBLISH
X-WR-CALNAME:Cork Thyme
X-ORIGINAL-URL:https://corkthyme.com
X-WR-CALDESC:Events for Cork Thyme
REFRESH-INTERVAL;VALUE=DURATION:PT1H
X-Robots-Tag:noindex
X-PUBLISHED-TTL:PT1H
BEGIN:VTIMEZONE
TZID:UTC
BEGIN:STANDARD
TZOFFSETFROM:+0000
TZOFFSETTO:+0000
TZNAME:UTC
DTSTART:20250101T000000
END:STANDARD
END:VTIMEZONE
BEGIN:VTIMEZONE
TZID:America/New_York
BEGIN:DAYLIGHT
TZOFFSETFROM:-0500
TZOFFSETTO:-0400
TZNAME:EDT
DTSTART:20250309T070000
END:DAYLIGHT
BEGIN:STANDARD
TZOFFSETFROM:-0400
TZOFFSETTO:-0500
TZNAME:EST
DTSTART:20251102T060000
END:STANDARD
BEGIN:DAYLIGHT
TZOFFSETFROM:-0500
TZOFFSETTO:-0400
TZNAME:EDT
DTSTART:20260308T070000
END:DAYLIGHT
BEGIN:STANDARD
TZOFFSETFROM:-0400
TZOFFSETTO:-0500
TZNAME:EST
DTSTART:20261101T060000
END:STANDARD
BEGIN:DAYLIGHT
TZOFFSETFROM:-0500
TZOFFSETTO:-0400
TZNAME:EDT
DTSTART:20270314T070000
END:DAYLIGHT
BEGIN:STANDARD
TZOFFSETFROM:-0400
TZOFFSETTO:-0500
TZNAME:EST
DTSTART:20271107T060000
END:STANDARD
END:VTIMEZONE
BEGIN:VEVENT
DTSTART;TZID=UTC:20260502T190000
DTEND;TZID=UTC:20260502T210000
DTSTAMP:20260419T114702
CREATED:20260101T223515Z
LAST-MODIFIED:20260418T153920Z
UID:1808-1777748400-1777755600@corkthyme.com
SUMMARY:Bluegrass Music Live!
DESCRIPTION:UnderDawg…always a knee-slapping great time!!
URL:https://corkthyme.com/event/bluegrass-music-live-6/
LOCATION:Cork Thyme\, 3543 Saint Johns Avenue\, Jacksonville\, FL\, 32205\, United States
CATEGORIES:Live Music
ATTACH;FMTTYPE=image/jpeg:https://corkthyme.com/wp-content/uploads/2025/10/Underdawg-e1761729673244.jpg
ORGANIZER;CN="Cork Thyme at All Spiced Up":MAILTO:michael@corkthyme.com
END:VEVENT
BEGIN:VEVENT
DTSTART;TZID=America/New_York:20260507T190000
DTEND;TZID=America/New_York:20260507T210000
DTSTAMP:20260419T114702
CREATED:20260330T111955Z
LAST-MODIFIED:20260417T110316Z
UID:1970-1778180400-1778187600@corkthyme.com
SUMMARY:Holly Ford
DESCRIPTION:Come enjoy Holly’s original and all-time favorite songs as she entertains us with her beautiful voice\, and piano.
URL:https://corkthyme.com/event/holly-ford/
LOCATION:Cork Thyme\, 3543 Saint Johns Avenue\, Jacksonville\, FL\, 32205\, United States
CATEGORIES:Live Music
ATTACH;FMTTYPE=image/jpeg:https://corkthyme.com/wp-content/uploads/2026/03/HollyFord-1-e1776423772522.jpg
ORGANIZER;CN="Cork Thyme at All Spiced Up":MAILTO:michael@corkthyme.com
END:VEVENT
BEGIN:VEVENT
DTSTART;TZID=America/New_York:20260514T190000
DTEND;TZID=America/New_York:20260514T210000
DTSTAMP:20260419T114702
CREATED:20260417T152143Z
LAST-MODIFIED:20260417T152143Z
UID:2012-1778785200-1778792400@corkthyme.com
SUMMARY:John Lumpkin Institute
DESCRIPTION:“The Lumpkin Institute is a beacon of light within the community\, guiding the next generation.” \nAnd the young people you’ll hear at Cork Thyme will not disappoint.
URL:https://corkthyme.com/event/john-lumpkin-institute/
LOCATION:FL
CATEGORIES:Live Music
ATTACH;FMTTYPE=image/jpeg:https://corkthyme.com/wp-content/uploads/2026/04/John-Lumpkin-e1776439271174.jpg
END:VEVENT
BEGIN:VEVENT
DTSTART;TZID=America/New_York:20260519T190000
DTEND;TZID=America/New_York:20260519T210000
DTSTAMP:20260419T114702
CREATED:20260419T154147Z
LAST-MODIFIED:20260419T154147Z
UID:2073-1779217200-1779224400@corkthyme.com
SUMMARY:Aaron Unthank
DESCRIPTION:Enjoy the beautiful sound of Aaron Unthank. \nOriginally from St. Louis\, MO and singing since he could walk\, Aaron continues to do what comes naturally. Over the past two decades he has sung from coast to coast across the US in various venues. \nHe formally studied music at Evangel University\, where he began playing piano and writing  songs. He has collaborated with songwriters from Nashville\, TN to Palm Beach\, FL. His soulful style was nurtured by his love of Gospel Music. \nAaron now makes his home in Jacksonville\, FL where he is immersed in the music culture as a performer and teacher.  When he is not on the road performing his music\,  he keeps busy playing and singing in local venues. \nHis solo EP is  entitled COURAGEOUS.
URL:https://corkthyme.com/event/aaron-unthank-3/
LOCATION:FL
CATEGORIES:Live Music
ATTACH;FMTTYPE=image/webp:https://corkthyme.com/wp-content/uploads/2026/03/Aaron-Unthank-e1776613286840.webp
END:VEVENT
BEGIN:VEVENT
DTSTART;TZID=America/New_York:20260521T190000
DTEND;TZID=America/New_York:20260521T210000
DTSTAMP:20260419T114702
CREATED:20260419T115942Z
LAST-MODIFIED:20260419T115942Z
UID:2040-1779390000-1779397200@corkthyme.com
SUMMARY:Claire Vandiver Live
DESCRIPTION:Claire Vandiver Claire Vandiver is a Nashville-born\, Florida-based singer-songwriter whose sound blends indie rock\, modern pop\, and roots influences into something both ethereal and emotionally grounded.
URL:https://corkthyme.com/event/claire-vandiver-live/
LOCATION:FL
CATEGORIES:Live Music
ATTACH;FMTTYPE=image/jpeg:https://corkthyme.com/wp-content/uploads/2026/04/Claire-Vandiver-e1776599955832.jpeg
END:VEVENT
BEGIN:VEVENT
DTSTART;TZID=UTC:20260528T190000
DTEND;TZID=UTC:20260528T210000
DTSTAMP:20260419T114702
CREATED:20251203T162349Z
LAST-MODIFIED:20260419T154418Z
UID:1755-1779994800-1780002000@corkthyme.com
SUMMARY:Timothy Scott Williams Live!
DESCRIPTION:Timothy grew up in Charlotte\, North Carolina within earshot of the Shuffletown Dragway\, but the sounds that captivated him were the classic country songs playing on the radio while his uncles worked on their cars. He taught himself guitar as a teen and began writing his own songs while he was a college student in Chapel Hill. Returning to Charlotte\, Tim continued to write\, record\, and perform his original music taking inspiration from the everyday lives\, loves\, and losses he saw on the streets while working as a mailman. \nWhen Tim met his wife\, Sarah\, he found both a writing and life partner. Sarah had worked as an attorney in Chicago where she loved the vibrant music scene\, but she did not become a songwriter until she moved to Charlotte and met Tim. The couple had a shared musical sensibility that evolved into a songwriting partnership\, with Timothy focusing on melodies and performance and Sarah primarily responsible for lyrics.  They also welcome opportunities to collaborate with other artists. \nNow living in Jacksonville\, Florida Timothy and Sarah continue to write while Timothy performs music at local venues and regional events.  Tim and Sarah’s original award-winning songs have been warmly received by critics and live audiences alike\, and appear on multiple CDs.
URL:https://corkthyme.com/event/timothy-scott-williams-live/
LOCATION:FL
CATEGORIES:Live Music
ATTACH;FMTTYPE=image/jpeg:https://corkthyme.com/wp-content/uploads/2025/12/Tim-Williams.jpg
END:VEVENT
BEGIN:VEVENT
DTSTART;TZID=UTC:20260529T180000
DTEND;TZID=UTC:20260529T213000
DTSTAMP:20260419T114702
CREATED:20260419T122303Z
LAST-MODIFIED:20260419T122319Z
UID:2060-1780077600-1780090200@corkthyme.com
SUMMARY:Amplified Avondale
DESCRIPTION:Cork Thyme @ All Spiced Up looks forward to seeing you for beverages\, food and fun!
URL:https://corkthyme.com/event/amplified-avondale-12/
LOCATION:Cork Thyme\, 3543 Saint Johns Avenue\, Jacksonville\, FL\, 32205\, United States
CATEGORIES:Live Music
ATTACH;FMTTYPE=image/jpeg:https://corkthyme.com/wp-content/uploads/2026/01/Amplified.jpeg
END:VEVENT
END:VCALENDAR