BEGIN:VCALENDAR
VERSION:2.0
PRODID:-//Cork Thyme - ECPv6.15.20//NONSGML v1.0//EN
CALSCALE:GREGORIAN
METHOD:PUBLISH
X-WR-CALNAME:Cork Thyme
X-ORIGINAL-URL:https://corkthyme.com
X-WR-CALDESC:Events for Cork Thyme
REFRESH-INTERVAL;VALUE=DURATION:PT1H
X-Robots-Tag:noindex
X-PUBLISHED-TTL:PT1H
BEGIN:VTIMEZONE
TZID:UTC
BEGIN:STANDARD
TZOFFSETFROM:+0000
TZOFFSETTO:+0000
TZNAME:UTC
DTSTART:20240101T000000
END:STANDARD
END:VTIMEZONE
BEGIN:VEVENT
DTSTART;TZID=UTC:20250604T180000
DTEND;TZID=UTC:20250604T200000
DTSTAMP:20260419T105936
CREATED:20250603T205459Z
LAST-MODIFIED:20250603T205459Z
UID:1446-1749060000-1749067200@corkthyme.com
SUMMARY:Wine Tasting
DESCRIPTION:Join us in the Bodega for a wine tasting.  Once you are done tasting enjoy the evening with friends in the speakeasy with a glass or 3 of wine and shop the bodega for gourmet items\, gifts and bottles of wine. \n$10
URL:https://corkthyme.com/event/wine-tasting/
LOCATION:Cork Thyme\, 3543 Saint Johns Avenue\, Jacksonville\, FL\, 32205\, United States
ATTACH;FMTTYPE=image/png:https://corkthyme.com/wp-content/uploads/2025/06/19th-March-5.png
END:VEVENT
BEGIN:VEVENT
DTSTART;TZID=UTC:20250611T180000
DTEND;TZID=UTC:20250611T200000
DTSTAMP:20260419T105936
CREATED:20250604T001738Z
LAST-MODIFIED:20250604T002023Z
UID:1469-1749664800-1749672000@corkthyme.com
SUMMARY:Wine Tasting
DESCRIPTION:Join us in the Bodega for a wine tasting.  Once you are done tasting enjoy the evening with friends in the speakeasy with a glass or 3 of wine and shop the bodega for gourmet items\, gifts and bottles of wine. \n$10
URL:https://corkthyme.com/event/wine-tasting-2/
LOCATION:Cork Thyme\, 3543 Saint Johns Avenue\, Jacksonville\, FL\, 32205\, United States
ATTACH;FMTTYPE=image/png:https://corkthyme.com/wp-content/uploads/2025/06/19th-March-6.png
END:VEVENT
END:VCALENDAR