BEGIN:VCALENDAR
VERSION:2.0
PRODID:-//Cork Thyme - ECPv6.15.20//NONSGML v1.0//EN
CALSCALE:GREGORIAN
METHOD:PUBLISH
X-WR-CALNAME:Cork Thyme
X-ORIGINAL-URL:https://corkthyme.com
X-WR-CALDESC:Events for Cork Thyme
REFRESH-INTERVAL;VALUE=DURATION:PT1H
X-Robots-Tag:noindex
X-PUBLISHED-TTL:PT1H
BEGIN:VTIMEZONE
TZID:UTC
BEGIN:STANDARD
TZOFFSETFROM:+0000
TZOFFSETTO:+0000
TZNAME:UTC
DTSTART:20240101T000000
END:STANDARD
END:VTIMEZONE
BEGIN:VEVENT
DTSTART;TZID=UTC:20250619T190000
DTEND;TZID=UTC:20250619T210000
DTSTAMP:20260419T134234
CREATED:20250603T214727Z
LAST-MODIFIED:20250603T214727Z
UID:1462-1750359600-1750366800@corkthyme.com
SUMMARY:Jazz Night
DESCRIPTION:Join us for our monthly residency program with the John Lumpkin Institute and enjoy a special night of jazz! \nHappy Hour 4-7PM \nJazz Night: 7-9PM \n  \n 
URL:https://corkthyme.com/event/jazz-night-2/
LOCATION:Cork Thyme\, 3543 Saint Johns Avenue\, Jacksonville\, FL\, 32205\, United States
CATEGORIES:Live Music
ATTACH;FMTTYPE=image/png:https://corkthyme.com/wp-content/uploads/2025/06/Facebook-Post-Jazz-Night-at-the-Wine-Bar.png
END:VEVENT
END:VCALENDAR